BEGIN:VCALENDAR
VERSION:2.0
PRODID:-//Menlo Park Chess Club - ECPv6.15.20//NONSGML v1.0//EN
CALSCALE:GREGORIAN
METHOD:PUBLISH
X-WR-CALNAME:Menlo Park Chess Club
X-ORIGINAL-URL:https://menloparkchess.club
X-WR-CALDESC:Events for Menlo Park Chess Club
REFRESH-INTERVAL;VALUE=DURATION:PT1H
X-Robots-Tag:noindex
X-PUBLISHED-TTL:PT1H
BEGIN:VTIMEZONE
TZID:America/Denver
BEGIN:DAYLIGHT
TZOFFSETFROM:-0700
TZOFFSETTO:-0600
TZNAME:MDT
DTSTART:20210314T090000
END:DAYLIGHT
BEGIN:STANDARD
TZOFFSETFROM:-0600
TZOFFSETTO:-0700
TZNAME:MST
DTSTART:20211107T080000
END:STANDARD
BEGIN:DAYLIGHT
TZOFFSETFROM:-0700
TZOFFSETTO:-0600
TZNAME:MDT
DTSTART:20220313T090000
END:DAYLIGHT
BEGIN:STANDARD
TZOFFSETFROM:-0600
TZOFFSETTO:-0700
TZNAME:MST
DTSTART:20221106T080000
END:STANDARD
BEGIN:DAYLIGHT
TZOFFSETFROM:-0700
TZOFFSETTO:-0600
TZNAME:MDT
DTSTART:20230312T090000
END:DAYLIGHT
BEGIN:STANDARD
TZOFFSETFROM:-0600
TZOFFSETTO:-0700
TZNAME:MST
DTSTART:20231105T080000
END:STANDARD
END:VTIMEZONE
BEGIN:VEVENT
DTSTART;TZID=America/Denver:20220706T190000
DTEND;TZID=America/Denver:20220706T203000
DTSTAMP:20260420T145108
CREATED:20220621T215415Z
LAST-MODIFIED:20220706T201558Z
UID:528-1657134000-1657139400@menloparkchess.club
SUMMARY:MPCC Surfeit of Blitz Marathon: 5+3
DESCRIPTION:The Menlo Park Chess Club seeks to answer a simple question: How much blitz chess is too much? Over four consecutive Wednesday evenings in July we will hold four separate unrated blitz tournaments of ever-shortening time controls (5+3\, 5+0\, 3+2\, 3+0)\, each with free entry and modest cash prizes. Where this event differs from most\, however\, is that players may optionally contribute $5 to an overall prize fund\, to be awarded based on one’s performance through all four individual blitz tournaments (the marathon). \nEvery dollar contributed to the overall prize fund will be returned in marathon prizes. Additionally\, any ties for cash prizes in the individual tournaments will see that money placed in the overall/marathon prize fund\, to bolster existing and add new place prizes. For example\, if two people score a perfect 4-0 to tie for first in the 5+3 event and one person takes sole third with 3.5-0.5\, $40 will be added to the overall prize fund (the 1st-2nd tie\, $25 + $15) while the person in 3rd place would take home $10 (see Prizes\, below). If three or more people tie for first place then the entire $50 (1st-3rd prizes) will be added to the overall/marathon prize fund. The same applies to the under-17 prizes. \nNote that each individual tournament is a standalone event and you may play in 1\, 2\, 3 or 4 of these tourneys as you please\, with no obligation to chip in $5 unless you wish to take part in the marathon. Details follow: \n\nFormat: Four separate Swiss-system tournaments in one section over four consecutive Wednesday evenings\nDates: July 6th\, 13th\, 20th\, and 27th — games begin at 7:00pm\nControl: July 6th\, 5+3; July 13th\, 5+0; July 20th\, 3+2; July 27th\, 3+0\nRounds (#): July 6th\, 4; July 13th\, 4; July 20th\, 5; July 27th\, 5\nEntry Fee: $0 (MPCC will sponsor the prizes)\nPrizes: Each event will offer 1st\, $25; 2nd\, $15; 3rd\, $10; Under-17 1st\, $15\, 2nd\, $10\nTies: If there is a tie for any cash prize the associated funds will be rolled into the overall purse mentioned above (yes\, this is unusual but we think it may prove interesting and\, given the entry fee is $0\, there should be little complaint)\nByes: We don’t need no stinkin’ byes (zero-point byes available any round)!\nRegister: Click the Register button\, above\nBoards\, sets and clocks will be provided by the Menlo Park Chess Club (bring a clock if you own one)\nU.S. Chess Rules for Blitz Chess will be followed for all play in this event\nFor more information please send email to info@menloparkchess.club or tweet @MenloParkChess\nJoin our Facebook group to stay abreast of future club tournaments and events
URL:https://menloparkchess.club/event/mpcc-surfeit-of-blitz-marathon-5-3/
LOCATION:Arrillaga Family Recreation Center\, 700 Alma Street\, Menlo Park\, CA\, 94025\, United States
CATEGORIES:tournaments,unrated tournaments
ORGANIZER;CN="Mark Drury":MAILTO:info@menloparkchess.club
END:VEVENT
BEGIN:VEVENT
DTSTART;TZID=America/Denver:20220713T190000
DTEND;TZID=America/Denver:20220713T203000
DTSTAMP:20260420T145108
CREATED:20220621T223632Z
LAST-MODIFIED:20220709T190330Z
UID:535-1657738800-1657744200@menloparkchess.club
SUMMARY:MPCC Surfeit of Blitz Marathon: 5+0
DESCRIPTION:The Menlo Park Chess Club seeks to answer a simple question: How much blitz chess is too much? Over four consecutive Wednesday evenings in July we will hold four separate unrated blitz tournaments of ever-shortening time controls (5+3\, 5+0\, 3+2\, 3+0)\, each with free entry and modest cash prizes. Where this event differs from most\, however\, is that players may optionally contribute $5 to an overall prize fund\, to be awarded based on one’s performance through all four individual blitz tournaments (the marathon). \nEvery dollar contributed to the overall prize fund will be returned in marathon prizes. Additionally\, any ties for cash prizes in the individual tournaments will see that money placed in the overall/marathon prize fund\, to bolster existing and add new place prizes. For example\, if two people score a perfect 4-0 to tie for first in the 5+0 event and one person takes sole third with 3.5-0.5\, $40 will be added to the overall prize fund (the 1st-2nd tie\, $25 + $15) while the person in 3rd place would take home $10 (see Prizes\, below). If three or more people tie for first place then the entire $50 (1st-3rd prizes) will be added to the overall/marathon prize fund. The same applies to the under-17 prizes. \nNote that each individual tournament is a standalone event and you may play in 1\, 2\, 3 or 4 of these tourneys as you please\, with no obligation to chip in $5 unless you wish to take part in the marathon. Details follow: \n\nFormat: Four separate Swiss-system tournaments in one section over four consecutive Wednesday evenings\nDates: July 6th\, 13th\, 20th and 27th — games begin at 7:00pm\nControl: July 6th\, 5+3; July 13th\, 5+0; July 20th\, 3+2; July 27th\, 3+0\nRounds (#): July 6th\, 4; July 13th\, 4; July 20th\, 5; July 27th\, 5\nEntry Fee: $0 (MPCC will sponsor the prizes)\nPrizes: Each event will offer 1st\, $25; 2nd\, $15; 3rd\, $10; Under-17 1st\, $15\, 2nd\, $10\nTies: If there is a tie for any cash prize the associated funds will be rolled into the overall purse mentioned above (yes\, this is unusual but we think it may prove interesting and\, given the entry fee is $0\, there should be little complaint)\nByes: Zero-point byes available any round\nRegister: Click the Register button\, above\nBoards\, sets and clocks will be provided by the Menlo Park Chess Club (bring a clock if you own one)\nU.S. Chess Rules for Blitz Chess will be followed for all play in this event\nFor more information please send email to info@menloparkchess.club or tweet @MenloParkChess\nJoin our Facebook group to stay abreast of future club tournaments and events
URL:https://menloparkchess.club/event/mpcc-surfeit-of-blitz-marathon-5-0/
LOCATION:Arrillaga Family Recreation Center\, 700 Alma Street\, Menlo Park\, CA\, 94025\, United States
CATEGORIES:unrated tournaments
ORGANIZER;CN="Mark Drury":MAILTO:info@menloparkchess.club
END:VEVENT
BEGIN:VEVENT
DTSTART;TZID=America/Denver:20220727T190000
DTEND;TZID=America/Denver:20220727T210000
DTSTAMP:20260420T145108
CREATED:20220621T224859Z
LAST-MODIFIED:20220718T152031Z
UID:541-1658948400-1658955600@menloparkchess.club
SUMMARY:MPCC Surfeit of Blitz Marathon: 3+0
DESCRIPTION:The Menlo Park Chess Club seeks to answer a simple question: How much blitz chess is too much? Over four consecutive Wednesday evenings in July we will hold four separate unrated blitz tournaments of ever-shortening time controls (5+3\, 5+0\, 3+2\, 3+0)\, each with free entry and modest cash prizes. Where this event differs from most\, however\, is that players may optionally contribute $5 to an overall prize fund\, to be awarded based on one’s performance through all four individual blitz tournaments (the marathon). \nEvery dollar contributed to the overall prize fund will be returned in marathon prizes. Additionally\, any ties for cash prizes in the individual tournaments will see that money placed in the overall/marathon prize fund\, to bolster existing and add new place prizes. For example\, if two people score a perfect 4-0 to tie for first in the 3+0 event and one person takes sole third with 3.5-0.5\, $40 will be added to the overall prize fund (the 1st-2nd tie\, $25 + $15) while the person in 3rd place would take home $10 (see Prizes\, below). If three or more people tie for first place then the entire $50 (1st-3rd prizes) will be added to the overall/marathon prize fund. The same applies to the under-17 prizes. \nNote that each individual tournament is a standalone event and you may play in 1\, 2\, 3 or 4 of these tourneys as you please\, with no obligation to chip in $5 unless you wish to take part in the marathon. Details follow: \n\nFormat: Four separate Swiss-system tournaments in one section over four consecutive Wednesday evenings\nDates: July 6th\, 13th\, 20th and 27th — games begin at 7:00pm\nControl: July 6th\, 5+3; July 13th\, 5+0; July 20th\, 3+2; July 27th\, 3+0\nRounds (#): July 6th\, 4; July 13th\, 4; July 20th\, 5; July 27th\, 5\nEntry Fee: $0 (MPCC will sponsor the prizes)\nPrizes: Each event will offer 1st\, $25; 2nd\, $15; 3rd\, $10; Under-17 1st\, $15\, 2nd\, $10\nTies: If there is a tie for any cash prize the associated funds will be rolled into the overall purse mentioned above (yes\, this is unusual but we think it may prove interesting and\, given the entry fee is $0\, there should be little complaint)\nByes: Zero-point byes available any round\nRegister: Click the Register button\, above\nBoards\, sets and clocks will be provided by the Menlo Park Chess Club (bring a clock if you own one)\nU.S. Chess Rules for Blitz Chess will be followed for all play in this event\nFor more information please send email to info@menloparkchess.club or tweet @MenloParkChess\nJoin our Facebook group to stay abreast of future club tournaments and events
URL:https://menloparkchess.club/event/mpcc-surfeit-of-blitz-marathon-3-0/
LOCATION:Arrillaga Family Recreation Center\, 700 Alma Street\, Menlo Park\, CA\, 94025\, United States
CATEGORIES:unrated tournaments
ORGANIZER;CN="Mark Drury":MAILTO:info@menloparkchess.club
END:VEVENT
END:VCALENDAR