BEGIN:VCALENDAR
VERSION:2.0
PRODID:-//Menlo Park Chess Club - ECPv6.15.20//NONSGML v1.0//EN
CALSCALE:GREGORIAN
METHOD:PUBLISH
X-ORIGINAL-URL:https://menloparkchess.club
X-WR-CALDESC:Events for Menlo Park Chess Club
REFRESH-INTERVAL;VALUE=DURATION:PT1H
X-Robots-Tag:noindex
X-PUBLISHED-TTL:PT1H
BEGIN:VTIMEZONE
TZID:America/Denver
BEGIN:DAYLIGHT
TZOFFSETFROM:-0700
TZOFFSETTO:-0600
TZNAME:MDT
DTSTART:20210314T090000
END:DAYLIGHT
BEGIN:STANDARD
TZOFFSETFROM:-0600
TZOFFSETTO:-0700
TZNAME:MST
DTSTART:20211107T080000
END:STANDARD
BEGIN:DAYLIGHT
TZOFFSETFROM:-0700
TZOFFSETTO:-0600
TZNAME:MDT
DTSTART:20220313T090000
END:DAYLIGHT
BEGIN:STANDARD
TZOFFSETFROM:-0600
TZOFFSETTO:-0700
TZNAME:MST
DTSTART:20221106T080000
END:STANDARD
BEGIN:DAYLIGHT
TZOFFSETFROM:-0700
TZOFFSETTO:-0600
TZNAME:MDT
DTSTART:20230312T090000
END:DAYLIGHT
BEGIN:STANDARD
TZOFFSETFROM:-0600
TZOFFSETTO:-0700
TZNAME:MST
DTSTART:20231105T080000
END:STANDARD
END:VTIMEZONE
BEGIN:VTIMEZONE
TZID:America/Los_Angeles
BEGIN:DAYLIGHT
TZOFFSETFROM:-0800
TZOFFSETTO:-0700
TZNAME:PDT
DTSTART:20210314T100000
END:DAYLIGHT
BEGIN:STANDARD
TZOFFSETFROM:-0700
TZOFFSETTO:-0800
TZNAME:PST
DTSTART:20211107T090000
END:STANDARD
BEGIN:DAYLIGHT
TZOFFSETFROM:-0800
TZOFFSETTO:-0700
TZNAME:PDT
DTSTART:20220313T100000
END:DAYLIGHT
BEGIN:STANDARD
TZOFFSETFROM:-0700
TZOFFSETTO:-0800
TZNAME:PST
DTSTART:20221106T090000
END:STANDARD
BEGIN:DAYLIGHT
TZOFFSETFROM:-0800
TZOFFSETTO:-0700
TZNAME:PDT
DTSTART:20230312T100000
END:DAYLIGHT
BEGIN:STANDARD
TZOFFSETFROM:-0700
TZOFFSETTO:-0800
TZNAME:PST
DTSTART:20231105T090000
END:STANDARD
END:VTIMEZONE
BEGIN:VEVENT
DTSTART;TZID=America/Denver:20220601T183000
DTEND;TZID=America/Denver:20220601T200000
DTSTAMP:20260424T134754
CREATED:20220525T211411Z
LAST-MODIFIED:20220526T194102Z
UID:436-1654108200-1654113600@menloparkchess.club
SUMMARY:MPCC June Mini-Marathon\, Round 1
DESCRIPTION:The Menlo Park Chess Club will hold another rated mini-marathon beginning Wednesday\, June 1st\, at 6:30pm\, a four-round Swiss system event of G/45 d/5 over four weeks and one suitable for experienced players as well as new or newer US Chess members seeking to establish an over-the-board rating. Details follow: \n\nFormat: Four-round Swiss-system tournament in one section\, one game per evening\nRounds: June 1st\, 8th\, 15th\, 22nd — games begin round 6:30pm\nControl: G/45 d/5 (Game in 45 minutes for each player plus a 5-second delay per move)\nEntry Fee: $0 (the MPCC will pay for prizes and the US Chess rating fees for this event)\nPrizes: Bookstore gift certificates and/or mousepad chessboards to the top three finishers\, top three under 17 years of age\nByes: Half-point byes are available for any round save the last\nBoards\, sets and clocks will be provided by the Menlo Park Chess Club (bring a clock if you own one)\nAll tournament participants must be current US Chess members\nSign up for the tournament by clicking the “Register” button directly above\nOur tournament chess rules summary is worth perusing if you’re new to tournament play\nFor more information please send email to info@menloparkchess.club\nJoin our Facebook group to stay abreast of future club tournaments and events
URL:https://menloparkchess.club/event/mpcc-june-mini-marathon-round-1/
LOCATION:Arrillaga Family Recreation Center\, 700 Alma Street\, Menlo Park\, CA\, 94025\, United States
CATEGORIES:rated tournaments,tournaments
ORGANIZER;CN="Mark Drury":MAILTO:info@menloparkchess.club
END:VEVENT
BEGIN:VEVENT
DTSTART;TZID=America/Denver:20220608T183000
DTEND;TZID=America/Denver:20220608T200000
DTSTAMP:20260424T134754
CREATED:20220530T195739Z
LAST-MODIFIED:20220530T201303Z
UID:443-1654713000-1654718400@menloparkchess.club
SUMMARY:MPCC June Mini-Marathon Round 2
DESCRIPTION:The Menlo Park Chess Club will hold another rated mini-marathon beginning Wednesday\, June 1st\, at 6:30pm\, a four-round Swiss system event of G/45 d/5 over four weeks and one suitable for experienced players as well as new or newer US Chess members seeking to establish an over-the-board rating. Details follow: \n\nFormat: Four-round Swiss-system tournament in one section\, one game per evening\nRounds: June 1st\, 8th\, 15th\, 22nd — games begin round 6:30pm\nControl: G/45 d/5 (Game in 45 minutes for each player plus a 5-second delay per move)\nEntry Fee: $0 (the MPCC will pay for prizes and the US Chess rating fees for this event)\nPrizes: Bookstore gift certificates and/or mousepad chessboards to the top three finishers\, top three under 17 years of age\nByes: Half-point byes are available for any round save the last\nBoards\, sets and clocks will be provided by the Menlo Park Chess Club (bring a clock if you own one)\nAll tournament participants must be current US Chess members\nSign up for the tournament by clicking the “Register” button directly above\nOur tournament rules summary is worth perusing if you’re new to tournament play\nFor more information please send email to info@menloparkchess.club\nJoin our Facebook group to stay abreast of future club tournaments and events
URL:https://menloparkchess.club/event/mpcc-june-mini-marathon-round-2/
LOCATION:Arrillaga Family Recreation Center\, 700 Alma Street\, Menlo Park\, CA\, 94025\, United States
ORGANIZER;CN="Mark Drury":MAILTO:info@menloparkchess.club
END:VEVENT
BEGIN:VEVENT
DTSTART;TZID=America/Denver:20220615T183000
DTEND;TZID=America/Denver:20220615T200000
DTSTAMP:20260424T134754
CREATED:20220530T200007Z
LAST-MODIFIED:20220530T201447Z
UID:445-1655317800-1655323200@menloparkchess.club
SUMMARY:MPCC June Mini-Marathon Round 3
DESCRIPTION:The Menlo Park Chess Club will hold another rated mini-marathon beginning Wednesday\, June 1st\, at 6:30pm\, a four-round Swiss system event of G/45 d/5 over four weeks and one suitable for experienced players as well as new or newer US Chess members seeking to establish an over-the-board rating. Details follow: \n\nFormat: Four-round Swiss-system tournament in one section\, one game per evening\nRounds: June 1st\, 8th\, 15th\, 22nd — games begin round 6:30pm\nControl: G/45 d/5 (Game in 45 minutes for each player plus a 5-second delay per move)\nEntry Fee: $0 (the MPCC will pay for prizes and the US Chess rating fees for this event)\nPrizes: Bookstore gift certificates and/or mousepad chessboards to the top three finishers\, top three under 17 years of age\nByes: Half-point byes are available for any round save the last\nBoards\, sets and clocks will be provided by the Menlo Park Chess Club (bring a clock if you own one)\nAll tournament participants must be current US Chess members\nSign up for the tournament by clicking the “Register” button directly above\nOur tournament chess rules summary is worth perusing if you’re new to tournament play\nFor more information please send email to info@menloparkchess.club\nJoin our Facebook group to stay abreast of future club tournaments and events
URL:https://menloparkchess.club/event/mpcc-june-mini-marathon-round-3/
LOCATION:Arrillaga Family Recreation Center\, 700 Alma Street\, Menlo Park\, CA\, 94025\, United States
ORGANIZER;CN="Mark Drury":MAILTO:info@menloparkchess.club
END:VEVENT
BEGIN:VEVENT
DTSTART;TZID=America/Denver:20220622T183000
DTEND;TZID=America/Denver:20220622T200000
DTSTAMP:20260424T134754
CREATED:20220530T200148Z
LAST-MODIFIED:20220530T201517Z
UID:447-1655922600-1655928000@menloparkchess.club
SUMMARY:MPCC June Mini-Marathon Round 4
DESCRIPTION:The Menlo Park Chess Club will hold another rated mini-marathon beginning Wednesday\, June 1st\, at 6:30pm\, a four-round Swiss system event of G/45 d/5 over four weeks and one suitable for experienced players as well as new or newer US Chess members seeking to establish an over-the-board rating. Details follow: \n\nFormat: Four-round Swiss-system tournament in one section\, one game per evening\nRounds: June 1st\, 8th\, 15th\, 22nd — games begin round 6:30pm\nControl: G/45 d/5 (Game in 45 minutes for each player plus a 5-second delay per move)\nEntry Fee: $0 (the MPCC will pay for prizes and the US Chess rating fees for this event)\nPrizes: Bookstore gift certificates and/or mousepad chessboards to the top three finishers\, top three under 17 years of age\nByes: Half-point byes are available for any round save the last\nBoards\, sets and clocks will be provided by the Menlo Park Chess Club (bring a clock if you own one)\nAll tournament participants must be current US Chess members\nSign up for the tournament by clicking the “Register” button directly above\nOur tournament chess rules summary is worth perusing if you’re new to tournament play\nFor more information please send email to info@menloparkchess.club\nJoin our Facebook group to stay abreast of future club tournaments and events
URL:https://menloparkchess.club/event/mpcc-june-mini-marathon-round-4/
LOCATION:Arrillaga Family Recreation Center\, 700 Alma Street\, Menlo Park\, CA\, 94025\, United States
ORGANIZER;CN="Mark Drury":MAILTO:info@menloparkchess.club
END:VEVENT
BEGIN:VEVENT
DTSTART;TZID=America/Los_Angeles:20220629T183000
DTEND;TZID=America/Los_Angeles:20220629T191500
DTSTAMP:20260424T134754
CREATED:20220627T221921Z
LAST-MODIFIED:20220628T004907Z
UID:556-1656527400-1656530100@menloparkchess.club
SUMMARY:Game Analysis with Jim Eade
DESCRIPTION:Jim Eade\, FIDE Master\, club supporter and head of the Eade Foundation (https://eadefoundation.org/)\, a non-profit organization dedicated to expanding chess literacy and chess excellence around the world\, will analyze one or two games from our recently-completed June Mini-Marathon. Note that Jim’s lecture is tentative given he has a very busy week leading up to Wednesday evening\, so we may need to postpone (this event will be updated asap if that’s the case). Please arrive before 6:30pm so we may begin on time. Casual and blitz chess will take place once the lecture is complete\, and a sincere thank you to Jim in advance for offering to do this for the club!
URL:https://menloparkchess.club/event/game-analysis-with-jim-eade/
LOCATION:Arrillaga Family Recreation Center\, 700 Alma Street\, Menlo Park\, CA\, 94025\, United States
CATEGORIES:game analysis,lecture
ORGANIZER;CN="Mark Drury":MAILTO:info@menloparkchess.club
END:VEVENT
END:VCALENDAR