BEGIN:VCALENDAR
VERSION:2.0
PRODID:-//Menlo Park Chess Club - ECPv6.15.20//NONSGML v1.0//EN
CALSCALE:GREGORIAN
METHOD:PUBLISH
X-WR-CALNAME:Menlo Park Chess Club
X-ORIGINAL-URL:https://menloparkchess.club
X-WR-CALDESC:Events for Menlo Park Chess Club
REFRESH-INTERVAL;VALUE=DURATION:PT1H
X-Robots-Tag:noindex
X-PUBLISHED-TTL:PT1H
BEGIN:VTIMEZONE
TZID:Asia/Krasnoyarsk
BEGIN:STANDARD
TZOFFSETFROM:+0700
TZOFFSETTO:+0700
TZNAME:+07
DTSTART:20210101T000000
END:STANDARD
END:VTIMEZONE
BEGIN:VEVENT
DTSTART;TZID=Asia/Krasnoyarsk:20220406T183000
DTEND;TZID=Asia/Krasnoyarsk:20220406T203000
DTSTAMP:20260424T201222
CREATED:20220312T142240Z
LAST-MODIFIED:20220312T142240Z
UID:295-1649269800-1649277000@menloparkchess.club
SUMMARY:Wednesday Night Mini-Marathon (cont.)
DESCRIPTION:The Menlo Park Chess Club will hold its first rated tournament beginning Wednesday\, March 16th\, at 6:30pm\, one intended for new or newer US Chess members seeking to establish OTB regular and quick ratings (though more experienced players are certainly welcome to join). The tournament is modeled after the revered Mechanics Institute Tuesday Night Marathons (https://www.milibrary.org/tuesday-night-marathon) and will run over four successive weeks\, ending on April 6th\, with one G/30 d/5 game played each evening. There is no entry fee given we are hoping to foster US Chess membership in the club and chess books will be offered as prizes to the top three finishers. Please feel free to invite anyone who may be interested in rated chess play and do share our tournament announcement with any and all in your chess community: \nhttps://new.uschess.org/menlo-park-chess-club-wednesday-night-mini-marathon \nSee https://menloparkchess.club/wednesday-night-mini-marathon/ for complete details.
URL:https://menloparkchess.club/event/wednesday-night-mini-marathon-cont-3/
LOCATION:Arrillaga Family Recreation Center\, 700 Alma Street\, Menlo Park\, CA\, 94025\, United States
ORGANIZER;CN="Mark Drury":MAILTO:info@menloparkchess.club
END:VEVENT
BEGIN:VEVENT
DTSTART;TZID=Asia/Krasnoyarsk:20220420T190000
DTEND;TZID=Asia/Krasnoyarsk:20220420T203000
DTSTAMP:20260424T201222
CREATED:20220516T130647Z
LAST-MODIFIED:20220516T130647Z
UID:392-1650481200-1650486600@menloparkchess.club
SUMMARY:MPCC Burgess Park Blitz
DESCRIPTION:The Menlo Park Chess Club will hold a free\, unrated blitz chess tournament Wednesday\, April 20th\, beginning at 7pm. There is no entry fee and no US Chess membership is required to play in this one-section Swiss system event using the G/5+2 time control. Chess sets\, boards and clocks will be provided but if you have a digital timer please feel free to bring it with you. Prizes for this event will be Hypermodern Chess books donated by the Jim Eade of the Eade Foundation and all are welcome to play!
URL:https://menloparkchess.club/event/mpcc-burgess-park-blitz/
LOCATION:Arrillaga Family Recreation Center\, 700 Alma Street\, Menlo Park\, CA\, 94025\, United States
ORGANIZER;CN="Mark Drury":MAILTO:info@menloparkchess.club
END:VEVENT
BEGIN:VEVENT
DTSTART;TZID=Asia/Krasnoyarsk:20220427T190000
DTEND;TZID=Asia/Krasnoyarsk:20220427T203000
DTSTAMP:20260424T201222
CREATED:20220516T132616Z
LAST-MODIFIED:20220516T135308Z
UID:394-1651086000-1651091400@menloparkchess.club
SUMMARY:MPCC Spring Quads Round 1
DESCRIPTION:The Menlo Park Chess Club will hold our first rated quads over three weeks from April 27th – May 11th\, 2022\, with a make-up round to be held May 18th\, if needed. The time control will be the same as that used for our earlier Swiss tournament\, the dual Quick- and Regular-rated G/30 d/5\, while quads will be based on a factor of rating/skill level and age. Chess sets\, boards and clocks will be provided but please feel free to bring your own digital timer if you wish.  Entry fee will again be $0 and prizes for first place in each quad will be $20 gift certificates for Kepler’s Books in Menlo Park (https://www.keplers.com/) with ties being decided by a blitz chess playoff. More information can be found in our TLA here.
URL:https://menloparkchess.club/event/mpcc-spring-quads-1/
LOCATION:Arrillaga Family Recreation Center\, 700 Alma Street\, Menlo Park\, CA\, 94025\, United States
ORGANIZER;CN="Mark Drury":MAILTO:info@menloparkchess.club
END:VEVENT
END:VCALENDAR