BEGIN:VCALENDAR
VERSION:2.0
PRODID:-//Menlo Park Chess Club - ECPv6.15.20//NONSGML v1.0//EN
CALSCALE:GREGORIAN
METHOD:PUBLISH
X-WR-CALNAME:Menlo Park Chess Club
X-ORIGINAL-URL:https://menloparkchess.club
X-WR-CALDESC:Events for Menlo Park Chess Club
REFRESH-INTERVAL;VALUE=DURATION:PT1H
X-Robots-Tag:noindex
X-PUBLISHED-TTL:PT1H
BEGIN:VTIMEZONE
TZID:America/Los_Angeles
BEGIN:DAYLIGHT
TZOFFSETFROM:-0800
TZOFFSETTO:-0700
TZNAME:PDT
DTSTART:20210314T100000
END:DAYLIGHT
BEGIN:STANDARD
TZOFFSETFROM:-0700
TZOFFSETTO:-0800
TZNAME:PST
DTSTART:20211107T090000
END:STANDARD
BEGIN:DAYLIGHT
TZOFFSETFROM:-0800
TZOFFSETTO:-0700
TZNAME:PDT
DTSTART:20220313T100000
END:DAYLIGHT
BEGIN:STANDARD
TZOFFSETFROM:-0700
TZOFFSETTO:-0800
TZNAME:PST
DTSTART:20221106T090000
END:STANDARD
BEGIN:DAYLIGHT
TZOFFSETFROM:-0800
TZOFFSETTO:-0700
TZNAME:PDT
DTSTART:20230312T100000
END:DAYLIGHT
BEGIN:STANDARD
TZOFFSETFROM:-0700
TZOFFSETTO:-0800
TZNAME:PST
DTSTART:20231105T090000
END:STANDARD
END:VTIMEZONE
BEGIN:VEVENT
DTSTART;TZID=America/Los_Angeles:20221228T180000
DTEND;TZID=America/Los_Angeles:20221228T214500
DTSTAMP:20260419T174022
CREATED:20221213T013640Z
LAST-MODIFIED:20221213T013640Z
UID:797-1672250400-1672263900@menloparkchess.club
SUMMARY:Holiday Season: No Club Meeting
DESCRIPTION:The Arrillaga Family Recreation Center will be closed December 21st and 28th so our club will not meet on those Wednesdays and\, as a reminder\, we will begin meeting on Thursdays in 2023\, starting January 5th\, from 6:00-9:45pm. Enjoy your holiday season and we hope to see you after the New Year!
URL:https://menloparkchess.club/event/holiday-season-no-club-meeting-2/
LOCATION:Arrillaga Family Recreation Center\, 700 Alma Street\, Menlo Park\, CA\, 94025\, United States
ORGANIZER;CN="Mark Drury":MAILTO:info@menloparkchess.club
END:VEVENT
END:VCALENDAR