BEGIN:VCALENDAR
VERSION:2.0
PRODID:-//Menlo Park Chess Club - ECPv6.15.20//NONSGML v1.0//EN
CALSCALE:GREGORIAN
METHOD:PUBLISH
X-ORIGINAL-URL:https://menloparkchess.club
X-WR-CALDESC:Events for Menlo Park Chess Club
REFRESH-INTERVAL;VALUE=DURATION:PT1H
X-Robots-Tag:noindex
X-PUBLISHED-TTL:PT1H
BEGIN:VTIMEZONE
TZID:America/Los_Angeles
BEGIN:DAYLIGHT
TZOFFSETFROM:-0800
TZOFFSETTO:-0700
TZNAME:PDT
DTSTART:20210314T100000
END:DAYLIGHT
BEGIN:STANDARD
TZOFFSETFROM:-0700
TZOFFSETTO:-0800
TZNAME:PST
DTSTART:20211107T090000
END:STANDARD
BEGIN:DAYLIGHT
TZOFFSETFROM:-0800
TZOFFSETTO:-0700
TZNAME:PDT
DTSTART:20220313T100000
END:DAYLIGHT
BEGIN:STANDARD
TZOFFSETFROM:-0700
TZOFFSETTO:-0800
TZNAME:PST
DTSTART:20221106T090000
END:STANDARD
BEGIN:DAYLIGHT
TZOFFSETFROM:-0800
TZOFFSETTO:-0700
TZNAME:PDT
DTSTART:20230312T100000
END:DAYLIGHT
BEGIN:STANDARD
TZOFFSETFROM:-0700
TZOFFSETTO:-0800
TZNAME:PST
DTSTART:20231105T090000
END:STANDARD
END:VTIMEZONE
BEGIN:VEVENT
DTSTART;TZID=America/Los_Angeles:20220914T190000
DTEND;TZID=America/Los_Angeles:20220914T203000
DTSTAMP:20260425T182842
CREATED:20220909T232806Z
LAST-MODIFIED:20220910T001333Z
UID:656-1663182000-1663187400@menloparkchess.club
SUMMARY:Fischer Random (Chess960) Tournament
DESCRIPTION:The Menlo Park Chess Club will hold its first Fischer Random (Chess 960) tournament Wednesday\, September 14th\, beginning at 7pm sharp. The event will be unrated and will occur over one evening with a time control of G/8 d/2\, there will be three or four rounds depending upon the number of entries\, entry is free and prizes will be gift certificates to Feldman’s Books in Menlo Park. \nThe starting positions used for the event will be announced before the beginning of each round in an attempt to rein in those who might overprepare. Everyone is encouraged to play in this tournament\, even if you’ve never played a game of Chess960 before. As long as you can play ‘regular’ chess with a clock and understand the castling eccentricities involved with this variant you’ll be fine\, though some may suggest playing a game or two on one of the online chess services to get a feel for Chess960. \nPlease register ahead of time using the button on this page so we have some idea how many people to expect — you may cancel your registration at any time.
URL:https://menloparkchess.club/event/fischer-random-chess960-tournament/
LOCATION:Arrillaga Family Recreation Center\, 700 Alma Street\, Menlo Park\, CA\, 94025\, United States
CATEGORIES:tournaments,unrated tournaments
ORGANIZER;CN="Mark Drury":MAILTO:info@menloparkchess.club
END:VEVENT
END:VCALENDAR