BEGIN:VCALENDAR
VERSION:2.0
PRODID:-//Menlo Park Chess Club - ECPv6.15.20//NONSGML v1.0//EN
CALSCALE:GREGORIAN
METHOD:PUBLISH
X-ORIGINAL-URL:https://menloparkchess.club
X-WR-CALDESC:Events for Menlo Park Chess Club
REFRESH-INTERVAL;VALUE=DURATION:PT1H
X-Robots-Tag:noindex
X-PUBLISHED-TTL:PT1H
BEGIN:VTIMEZONE
TZID:Asia/Krasnoyarsk
BEGIN:STANDARD
TZOFFSETFROM:+0700
TZOFFSETTO:+0700
TZNAME:+07
DTSTART:20210101T000000
END:STANDARD
END:VTIMEZONE
BEGIN:VEVENT
DTSTART;TZID=Asia/Krasnoyarsk:20220316T183000
DTEND;TZID=Asia/Krasnoyarsk:20220316T203000
DTSTAMP:20260425T061904
CREATED:20220312T141204Z
LAST-MODIFIED:20220312T141308Z
UID:288-1647455400-1647462600@menloparkchess.club
SUMMARY:Wednesday Night Mini-Marathon
DESCRIPTION:The Menlo Park Chess Club will hold its first rated tournament beginning Wednesday\, March 16th\, at 6:30pm\, one intended for new or newer US Chess members seeking to establish OTB regular and quick ratings (though more experienced players are certainly welcome to join). The tournament is modeled after the revered Mechanics Institute Tuesday Night Marathons (https://www.milibrary.org/tuesday-night-marathon) and will run over four successive weeks\, ending on April 6th\, with one G/30 d/5 game played each evening. There is no entry fee given we are hoping to foster US Chess membership in the club and chess books will be offered as prizes to the top three finishers. Please feel free to invite anyone who may be interested in rated chess play and do share our tournament announcement with any and all in your chess community: \nhttps://new.uschess.org/menlo-park-chess-club-wednesday-night-mini-marathon \nSee https://menloparkchess.club/wednesday-night-mini-marathon/ for complete details.
URL:https://menloparkchess.club/event/wednesday-night-mini-marathon/
LOCATION:Arrillaga Family Recreation Center\, 700 Alma Street\, Menlo Park\, CA\, 94025\, United States
ORGANIZER;CN="Mark Drury":MAILTO:info@menloparkchess.club
END:VEVENT
END:VCALENDAR