BEGIN:VCALENDAR
VERSION:2.0
PRODID:-//Menlo Park Chess Club - ECPv6.15.20//NONSGML v1.0//EN
CALSCALE:GREGORIAN
METHOD:PUBLISH
X-WR-CALNAME:Menlo Park Chess Club
X-ORIGINAL-URL:https://menloparkchess.club
X-WR-CALDESC:Events for Menlo Park Chess Club
REFRESH-INTERVAL;VALUE=DURATION:PT1H
X-Robots-Tag:noindex
X-PUBLISHED-TTL:PT1H
BEGIN:VTIMEZONE
TZID:Asia/Krasnoyarsk
BEGIN:STANDARD
TZOFFSETFROM:+0700
TZOFFSETTO:+0700
TZNAME:+07
DTSTART:20210101T000000
END:STANDARD
END:VTIMEZONE
BEGIN:VEVENT
DTSTART;TZID=Asia/Krasnoyarsk:20220223T180000
DTEND;TZID=Asia/Krasnoyarsk:20220223T214500
DTSTAMP:20260425T112232
CREATED:20220228T133029Z
LAST-MODIFIED:20220228T133029Z
UID:275-1645639200-1645652700@menloparkchess.club
SUMMARY:Wednesday Night Chess
DESCRIPTION:Our regular weekly club meeting occurs Wednesday evenings from 6:00-9:45pm in the Cypress Room of the Arrillaga Family Recreation Center.
URL:https://menloparkchess.club/event/wednesday-night-chess-6/
LOCATION:Arrillaga Family Recreation Center\, 700 Alma Street\, Menlo Park\, CA\, 94025\, United States
ORGANIZER;CN="Mark Drury":MAILTO:info@menloparkchess.club
END:VEVENT
END:VCALENDAR